BEGIN:VCALENDAR
VERSION:2.0
PRODID:-//waspalm-association.org - ECPv6.15.17.1//NONSGML v1.0//EN
CALSCALE:GREGORIAN
METHOD:PUBLISH
X-ORIGINAL-URL:https://www.waspalm-association.org
X-WR-CALDESC:Events for waspalm-association.org
REFRESH-INTERVAL;VALUE=DURATION:PT1H
X-Robots-Tag:noindex
X-PUBLISHED-TTL:PT1H
BEGIN:VTIMEZONE
TZID:Europe/Rome
BEGIN:DAYLIGHT
TZOFFSETFROM:+0100
TZOFFSETTO:+0200
TZNAME:CEST
DTSTART:20230326T010000
END:DAYLIGHT
BEGIN:STANDARD
TZOFFSETFROM:+0200
TZOFFSETTO:+0100
TZNAME:CET
DTSTART:20231029T010000
END:STANDARD
BEGIN:DAYLIGHT
TZOFFSETFROM:+0100
TZOFFSETTO:+0200
TZNAME:CEST
DTSTART:20240331T010000
END:DAYLIGHT
BEGIN:STANDARD
TZOFFSETFROM:+0200
TZOFFSETTO:+0100
TZNAME:CET
DTSTART:20241027T010000
END:STANDARD
BEGIN:DAYLIGHT
TZOFFSETFROM:+0100
TZOFFSETTO:+0200
TZNAME:CEST
DTSTART:20250330T010000
END:DAYLIGHT
BEGIN:STANDARD
TZOFFSETFROM:+0200
TZOFFSETTO:+0100
TZNAME:CET
DTSTART:20251026T010000
END:STANDARD
BEGIN:DAYLIGHT
TZOFFSETFROM:+0100
TZOFFSETTO:+0200
TZNAME:CEST
DTSTART:20260329T010000
END:DAYLIGHT
BEGIN:STANDARD
TZOFFSETFROM:+0200
TZOFFSETTO:+0100
TZNAME:CET
DTSTART:20261025T010000
END:STANDARD
END:VTIMEZONE
BEGIN:VEVENT
DTSTART;VALUE=DATE:20251029
DTEND;VALUE=DATE:20251101
DTSTAMP:20260423T000216
CREATED:20240627T140105Z
LAST-MODIFIED:20250613T094450Z
UID:2098-1761696000-1761955199@www.waspalm-association.org
SUMMARY:LMCE 2025 & KSLM 66th Annual Meeting
DESCRIPTION:Incheon\, Republic of Korea \nwww.lmce-kslm.org
URL:https://www.waspalm-association.org/index.php/event/lmce-2025-kslm-66th-annual-meeting/
ATTACH;FMTTYPE=image/png:https://www.waspalm-association.org/wp-content/uploads/2024/06/LMCE.png
END:VEVENT
BEGIN:VEVENT
DTSTART;VALUE=DATE:20251001
DTEND;VALUE=DATE:20251005
DTSTAMP:20260423T000216
CREATED:20250613T094233Z
LAST-MODIFIED:20250613T094749Z
UID:2172-1759276800-1759622399@www.waspalm-association.org
SUMMARY:LV Congreso Mexicano de Patología Clínica
DESCRIPTION:Guadalajara\, Jalisco\, México \nfempac.org.mx/congreso2025
URL:https://www.waspalm-association.org/index.php/event/lv-congreso-mexicano-de-patologia-clinica/
ATTACH;FMTTYPE=image/png:https://www.waspalm-association.org/wp-content/uploads/2025/06/LV-Congreso-Mexicano-de-Patologia-Clinica-Poster.png
END:VEVENT
BEGIN:VEVENT
DTSTART;VALUE=DATE:20250403
DTEND;VALUE=DATE:20250405
DTSTAMP:20260423T000216
CREATED:20240627T135925Z
LAST-MODIFIED:20240627T140031Z
UID:2095-1743638400-1743811199@www.waspalm-association.org
SUMMARY:KSLM 2025 Spring Symposium
DESCRIPTION:Gyeongsangbuk-do Province\, Republic of Korea
URL:https://www.waspalm-association.org/index.php/event/kslm-2025-spring-symposium/
END:VEVENT
BEGIN:VEVENT
DTSTART;VALUE=DATE:20241204
DTEND;VALUE=DATE:20241208
DTSTAMP:20260423T000216
CREATED:20240627T130645Z
LAST-MODIFIED:20240627T140309Z
UID:2084-1733270400-1733615999@www.waspalm-association.org
SUMMARY:50th ACBICON 2024
DESCRIPTION:Golden Jubilee Conference of Association of Clinical Biochemists of India. \nTheme: From Laboratory to Life: Recent Advances in Basic and Medical Research for Global Healthcare. \nChandigarh – India \n 
URL:https://www.waspalm-association.org/index.php/event/50th-acbicon-2024/
ATTACH;FMTTYPE=image/png:https://www.waspalm-association.org/wp-content/uploads/2024/06/ACBICON-2024-Flyer-1-1.png
END:VEVENT
BEGIN:VEVENT
DTSTART;VALUE=DATE:20241030
DTEND;VALUE=DATE:20241103
DTSTAMP:20260423T000216
CREATED:20240627T135458Z
LAST-MODIFIED:20240627T140511Z
UID:2088-1730246400-1730591999@www.waspalm-association.org
SUMMARY:LIV Mexican National Congress of Clinical Pathology
DESCRIPTION:Puebla\, Mexico
URL:https://www.waspalm-association.org/index.php/event/liv-national-congress-of-clinical-pathology/
ATTACH;FMTTYPE=image/jpeg:https://www.waspalm-association.org/wp-content/uploads/2024/06/XIV-Congreso-Nacional-Mexicano-de-Patologia-Clinica-2024-Ciudad-de-Puebla-Mexico.jpg
END:VEVENT
BEGIN:VEVENT
DTSTART;VALUE=DATE:20240926
DTEND;VALUE=DATE:20240928
DTSTAMP:20260423T000216
CREATED:20240627T135708Z
LAST-MODIFIED:20240627T140646Z
UID:2090-1727308800-1727481599@www.waspalm-association.org
SUMMARY:V Congress of the Sociedad Médica de Laboratorio Clínico de Chile
DESCRIPTION:Santiago\, Chile
URL:https://www.waspalm-association.org/index.php/event/v-congress-of-the-sociedad-medica-de-laboratorio-clinico-de-chile/
ATTACH;FMTTYPE=image/jpeg:https://www.waspalm-association.org/wp-content/uploads/2024/06/Plantilla-RRSS-SMLC_2.jpg
END:VEVENT
BEGIN:VEVENT
DTSTART;TZID=Europe/Rome:20240925T080000
DTEND;TZID=Europe/Rome:20240927T170000
DTSTAMP:20260423T000216
CREATED:20240627T135811Z
LAST-MODIFIED:20240627T141215Z
UID:2092-1727251200-1727456400@www.waspalm-association.org
SUMMARY:LMCE 2024 & KSLM 65th Annual Meeting
DESCRIPTION:Seoul\, Republic of Korea
URL:https://www.waspalm-association.org/index.php/event/lmce-2024-kslm-65th-annual-meeting/
ATTACH;FMTTYPE=image/jpeg:https://www.waspalm-association.org/wp-content/uploads/2024/06/LMCE-2024-Poster-scaled.jpg
END:VEVENT
END:VCALENDAR